BEGIN:VCALENDAR
VERSION:2.0
PRODID:-//eventon.com NONSGML v1.0//EN
CALSCALE:GREGORIAN
METHOD:PUBLISH
BEGIN:VEVENT
UID:69ed3c7204723
DTSTAMP:20260426T001306
DTSTART:20260210T160000Z
DTEND:20260210T173000Z
TZID:UTC
LOCATION:
SUMMARY:Kulisszák mögött
DESCRIPTION:Szerencsés színészgeneráció tagja volt. Olyan korban dolgozhatott\,  amikor jó volt a magyar színház és európai hírű a filmgyártásunk. 1965-ben végezte el a főiskolát. Szolnokra került\,  innét a Kazimir Károly neve fémjelezte Thália Színházba\,  ahol rövidesen vezető színészévé vált a társulatnak. A pálya második szakaszában a Nemzeti Színház majd a székesfehérvári[..]\nhttps://kulturalisszalon.hu/events/kulisszak-mogott-29/
URL:https://kulturalisszalon.hu/events/kulisszak-mogott-29/
END:VEVENT
END:VCALENDAR