BEGIN:VCALENDAR
VERSION:2.0
PRODID:-//eventon.com NONSGML v1.0//EN
CALSCALE:GREGORIAN
METHOD:PUBLISH
BEGIN:VEVENT
UID:69ed3c72c263b
DTSTAMP:20260426T001306
DTSTART:20260217T180000Z
DTEND:20260217T200000Z
TZID:UTC
LOCATION:
SUMMARY:Magyar-Osztrák-Bajor Társaság programja
DESCRIPTION:A boldog\,  herceg németújvári Batthyány-Strattmann László nyomdokában lévő Dr. SZALAI LÁSZLÓ szemész főorvos „A szem a lélek tükre” Lk.11/34; „A testnek lámpása a szem!” Misszió? előadás\,  film\,  vetítés „Dr. Szalai László szemész a Hajnalfény Orvoscsoport alapítója karitatív szervezetekkel együttműködve\,  2005 ősze óta végez hiánypótló tevékenységet Magyarország leszakadó településein\,  valamint a[..]\nhttps://kulturalisszalon.hu/events/magyar-osztrak-bajor-tarsasag-programja/
URL:https://kulturalisszalon.hu/events/magyar-osztrak-bajor-tarsasag-programja/
END:VEVENT
END:VCALENDAR