BEGIN:VCALENDAR
VERSION:2.0
PRODID:-//eventon.com NONSGML v1.0//EN
CALSCALE:GREGORIAN
METHOD:PUBLISH
BEGIN:VEVENT
UID:69ed53e2cd932
DTSTAMP:20260426T015306
DTSTART:20260128T163000Z
DTEND:20260128T180000Z
TZID:UTC
LOCATION:
SUMMARY:Jókai növény és kertbarát klub
DESCRIPTION:A kör vezetője: Ónodi Szabó Sándor nyugdíjas kertész oktató. Ingyenes\nhttps://kulturalisszalon.hu/events/jokai-noveny-es-kertbarat-klub-19/
URL:https://kulturalisszalon.hu/events/jokai-noveny-es-kertbarat-klub-19/
END:VEVENT
END:VCALENDAR