BEGIN:VCALENDAR
VERSION:2.0
PRODID:-//eventon.com NONSGML v1.0//EN
CALSCALE:GREGORIAN
METHOD:PUBLISH
BEGIN:VEVENT
UID:69ed53dde0693
DTSTAMP:20260426T015301
DTSTART:20260120T180000Z
DTEND:20260120T200000Z
TZID:UTC
LOCATION:
SUMMARY:Magyar-Osztrák-Bajor Társaság programja
DESCRIPTION:ALBERT FERENC író\,  költő Rákosmenti Irodalmi Műhely elnök\,  Összefogás 1956 katonai és polgári örökségének megőrzéséért Egyesület alelnök\,  Magyar Alkotók Nemzetközi Egyesülete tiszteletbeli elnöke\,  és a Rákosmenti Enzsöl Ellák Irodalmi Szalon házigazdája\,  Pro Cultura Rákosmente-díj kitüntetés birtokosa. „Az irodalom némely válfaja kisiskolás koromtól elbűvöl. Magával ragadó\,  ahogyan az élet minden szegmensét\, [..]\nhttps://kulturalisszalon.hu/events/hegyvideki-trianon-harangja-tarsasag/
URL:https://kulturalisszalon.hu/events/hegyvideki-trianon-harangja-tarsasag/
END:VEVENT
END:VCALENDAR