BEGIN:VCALENDAR
VERSION:2.0
PRODID:-//eventon.com NONSGML v1.0//EN
CALSCALE:GREGORIAN
METHOD:PUBLISH
BEGIN:VEVENT
UID:69ed3c71f04a8
DTSTAMP:20260426T001305
DTSTART:20260212T160000Z
DTEND:20260212T170000Z
TZID:UTC
LOCATION:
SUMMARY:Gyerekjóga móka
DESCRIPTION:Szeretnéd\,  hogy gyermeked aktívabb\,  egészségesebb\,  boldogabb legyen? Vagy az oviból az iskolába készültök? Jobb lenne\,  ha könnyebben tudna elaludni és kevesebbet kütyüzne? Ha a válaszod igen\,  akkor 2026. februárban két alkalmas vidám hangulatú gyerekjógára várjuk sok szeretettel a Ficsak 12Alapítvány szervezésében az 5-12 éves korosztályt a Hegyvidéki Kulturális Szalon-ba! A[..]\nhttps://kulturalisszalon.hu/events/gyerekjoga-moka-2/
URL:https://kulturalisszalon.hu/events/gyerekjoga-moka-2/
END:VEVENT
END:VCALENDAR