BEGIN:VCALENDAR
VERSION:2.0
PRODID:-//eventon.com NONSGML v1.0//EN
CALSCALE:GREGORIAN
METHOD:PUBLISH
BEGIN:VEVENT
UID:69ed5440320f4
DTSTAMP:20260426T015440
DTSTART:20260128T190000Z
DTEND:20260128T203000Z
TZID:UTC
LOCATION:
SUMMARY:Analízis (Társaság) # 18 SZERET\,  GYŰLÖL
DESCRIPTION:Az Analízis irodalmi-pszichológiai estjein a legközösebb tapasztalásaink\,  az életünket meghatározó folyamatok\,  az elme állapotai kerülnek a fókuszba minden hónapban. Olyan kérdések\,  amiket sokszor elrejtünk\,  amiket nem merünk ki-vagy átbeszélni\,  amikről tabu beszélni\,  amik titkaink. A sorozat 2025. márciusától a Hegyvidéki Kulturális Szalonban kerül megrendezésre. A 2026. januári\,  évkezdő alkalom témája:[..]\nhttps://kulturalisszalon.hu/events/analizis-tarsasag-18-szeret-gyulol/
URL:https://kulturalisszalon.hu/events/analizis-tarsasag-18-szeret-gyulol/
END:VEVENT
END:VCALENDAR