BEGIN:VCALENDAR
VERSION:2.0
PRODID:-//eventon.com NONSGML v1.0//EN
CALSCALE:GREGORIAN
METHOD:PUBLISH
BEGIN:VEVENT
UID:69ed3bd746309
DTSTAMP:20260426T001031
DTSTART:20260204
DTEND:20260227
TZID:UTC
LOCATION:
SUMMARY:Lélek rejtélyei
DESCRIPTION:\, \,  A teremtés ékes koronája\,  varázslatos színek harmóniája. Illatok bódító varázsa. Kecses mozdulatai\,  érzéki finomsága.&#8221;   (Bargel Zsuzsa: Virág &#8211; részlet)               A &#8222;lélek rejtélyei&#8221; nem csupán egy cím\,  hanem egy ígéret arra\,  hogy a képek segítségével betekintést nyerhetünk oda\,  ahová szavakkal nehezen jutunk el. A[..]\nhttps://kulturalisszalon.hu/events/lelek-rejtelyei/
URL:https://kulturalisszalon.hu/events/lelek-rejtelyei/
END:VEVENT
END:VCALENDAR