BEGIN:VCALENDAR
VERSION:2.0
PRODID:-//eventon.com NONSGML v1.0//EN
CALSCALE:GREGORIAN
METHOD:PUBLISH
BEGIN:VEVENT
UID:69ed54336f307
DTSTAMP:20260426T015427
DTSTART:20260130T190000Z
DTEND:20260130T200000Z
TZID:UTC
LOCATION:
SUMMARY:Dr. Jazz Duo ''Boogie forever" lemezbemutató koncert
DESCRIPTION:A Dr. Jazz Duo unikális magyar zenei produkció dr.Tóth Gábor zongorista-zeneszerző és Bágyi Balázs jazz dobos-zeneszerző kettőse. A rendkívüli formáció a hagyományos és a modern boogie\,  valamint a stride piano elemeit ötvözve nyújt különleges élményt a közönségnek. Az elhangzó számok a zongorista saját kompoziciói\,  illetve jazz standardek\,  valamint klasszikus művek[..]\nhttps://kulturalisszalon.hu/events/dr-jazz-duo-boogie-forever-lemezbemutato-koncert/
URL:https://kulturalisszalon.hu/events/dr-jazz-duo-boogie-forever-lemezbemutato-koncert/
END:VEVENT
END:VCALENDAR