BEGIN:VCALENDAR
VERSION:2.0
PRODID:-//eventon.com NONSGML v1.0//EN
CALSCALE:GREGORIAN
METHOD:PUBLISH
BEGIN:VEVENT
UID:69ed5411277aa
DTSTAMP:20260426T015353
DTSTART:20260131T093000Z
DTEND:20260131T113000Z
TZID:UTC
LOCATION:
SUMMARY:Családi délelőtt: Fényből szőtt mesék: A hóvihar boszorkánya
DESCRIPTION:Hogyan rabolja el a melegséget a hóvihar boszorkánya az otthonokból? Kiktől kapnak segítséget a testvérek és hogyan válnak éber\,  bátor szívű hősökké? Mivel lehet legyőzni a jeges\,  hideg\,  gonosz hóvihar boszorkányát? Fényből szőtt mesénken minderre fény derül. Gyere és járd végig a próbatételeket Kecskés Karina színésznő\,  mesemondó és Fehérváry Lilla[..]\nhttps://kulturalisszalon.hu/events/csaladi-delelott-fenybol-szott-mesek-a-hovihar-boszorkanya/
URL:https://kulturalisszalon.hu/events/csaladi-delelott-fenybol-szott-mesek-a-hovihar-boszorkanya/
END:VEVENT
END:VCALENDAR