BEGIN:VCALENDAR
VERSION:2.0
PRODID:-//eventon.com NONSGML v1.0//EN
CALSCALE:GREGORIAN
METHOD:PUBLISH
BEGIN:VEVENT
UID:69ed543372893
DTSTAMP:20260426T015427
DTSTART:20260120T160000Z
DTEND:20260120T173000Z
TZID:UTC
LOCATION:
SUMMARY:Önképzőkör — könyvképzőkör
DESCRIPTION:ÚJ IDŐPONT: FEBRUÁR 17. 16.00 „… munkáját agyonhallgatták\,  mintha nem is lett volna” Fiatalon megkötött\,  mindvégig boldog házasságnak vetett véget a férj hirtelen halála. Harminchárom évet töltöttek szellemi és lelki közösségben\,  Sarolta 54 évesen vesztette el 57 éves férjét. A magyar kultúra történetében óriási szerepet betöltő és hatalmas munkát elvégző[..]\nhttps://kulturalisszalon.hu/events/onkepzokor-konyvkepzokor-36/
URL:https://kulturalisszalon.hu/events/onkepzokor-konyvkepzokor-36/
END:VEVENT
END:VCALENDAR