BEGIN:VCALENDAR
VERSION:2.0
PRODID:-//eventon.com NONSGML v1.0//EN
CALSCALE:GREGORIAN
METHOD:PUBLISH
BEGIN:VEVENT
UID:69ed3c881c495
DTSTAMP:20260426T001328
DTSTART:20260208T090000Z
DTEND:20260208T170000Z
TZID:UTC
LOCATION:
SUMMARY:Rambala Éva Erőszakmentes kommunikáció alapjai
DESCRIPTION:Az erőszakmentes kommunikáció alapjai Önmagad vagy más kritizálása nélkül szeretnél őszinte lenni? Úgy gondoskodni a saját jól létedről\,  hogy közben másokra is odafigyelsz? Olyan készségeket szeretnél megtanulni\,  melyek segítségével a konfliktusok nem elkerülendő rossz dolgok lesznek\,  hanem nagyszerű lehetőségek a fejlődésre? Önmagad és a másik mélyebb megértésére\,  a mindenki számára megfelelő megoldások megtalálására törekszel? Ha igen\,  ez[..]\nhttps://kulturalisszalon.hu/events/rambala-eva-eroszakmentes-kommunikacio-alapjai-4/
URL:https://kulturalisszalon.hu/events/rambala-eva-eroszakmentes-kommunikacio-alapjai-4/
END:VEVENT
END:VCALENDAR