BEGIN:VCALENDAR
VERSION:2.0
PRODID:-//eventon.com NONSGML v1.0//EN
CALSCALE:GREGORIAN
METHOD:PUBLISH
BEGIN:VEVENT
UID:69ed3be898c4b
DTSTAMP:20260426T001048
DTSTART:20260211T143000Z
DTEND:20260211T160000Z
TZID:Africa/Abidjan
LOCATION:
SUMMARY:Szalonegyetem
DESCRIPTION:Mi történik az ember jogaival\,  kötelezettségeivel\,  különféle jogviszonyaival a halálának bekövetkeztével? Az általános közfelfogás az öröklést &#8211; leegyszerűsítő módon &#8211; valamilyen ingó illetőleg ingatlan vagyon megszerzéseként értelmezi\,  tehát elsősorban vagyoni természetű történésként kezeli. Ezzel szemben az öröklés alatt alapvetően egy személy halála következtében bekövetkező jogutódlást kell értenünk\,  amelynek az a rendeltetése\, [..]\nhttps://kulturalisszalon.hu/events/szalonegyetem-90/
URL:https://kulturalisszalon.hu/events/szalonegyetem-90/
END:VEVENT
END:VCALENDAR