BEGIN:VCALENDAR
VERSION:2.0
PRODID:-//eventon.com NONSGML v1.0//EN
CALSCALE:GREGORIAN
METHOD:PUBLISH
BEGIN:VEVENT
UID:69ed541043345
DTSTAMP:20260426T015352
DTSTART:20260127T180000Z
DTEND:20260127T200000Z
TZID:Europe/Budapest
LOCATION:
SUMMARY:A Középső Birodalom 3500 éves kultúrája - Ismerkedés Kínával I.
DESCRIPTION:A Középső Birodalom 3500 éves kultúrája &#8211; Ismerkedés Kínával A régi kínaiak országukat (nem alaptalanul) a világ civilizációs\,  kereskedelmi és hatalmi központjának tartották és Középső Birodalomnak nevezték. Itt született meg nagyjából 3500 éve az a csodálatos kultúra\,  amely óriási hatással volt a kelet-ázsiai szomszédokra is\,  azaz egy kínai kultúrkört is[..]\nhttps://kulturalisszalon.hu/events/a-kozepso-birodalom-3500-eves-kulturaja-ismerkedes-kinaval-i/
URL:https://kulturalisszalon.hu/events/a-kozepso-birodalom-3500-eves-kulturaja-ismerkedes-kinaval-i/
END:VEVENT
END:VCALENDAR