BEGIN:VCALENDAR
VERSION:2.0
PRODID:-//eventon.com NONSGML v1.0//EN
CALSCALE:GREGORIAN
METHOD:PUBLISH
BEGIN:VEVENT
UID:69ed53e3d6735
DTSTAMP:20260426T015307
DTSTART:20260115T180000Z
DTEND:20260115T193000Z
TZID:UTC
LOCATION:
SUMMARY:Segítő kéz a családban: Dr.Domján Mihály előadása
DESCRIPTION:Miről lesz szó? Aki apahiányban nőtt fel\,  ráadásul egy büntető apa képével együtt: sajnálatosan ezt hívjuk apasebnek. Az alábbi kérdésekre fogom az előadásban a választ keresni: * Ki nekem az apám? * Hogyan lehet az apaságot meghatározni? * Hogyan adódik tovább az apaseb? * Milyen mérgező mondatok/szituációk fordulnak gyakran elő[..]\nhttps://kulturalisszalon.hu/events/segito-kez-a-csaladban-dr-domjan-mihaly-eloadasa-3/
URL:https://kulturalisszalon.hu/events/segito-kez-a-csaladban-dr-domjan-mihaly-eloadasa-3/
END:VEVENT
END:VCALENDAR