BEGIN:VCALENDAR
VERSION:2.0
PRODID:-//eventon.com NONSGML v1.0//EN
CALSCALE:GREGORIAN
METHOD:PUBLISH
BEGIN:VEVENT
UID:69ed53a4d7ee4
DTSTAMP:20260426T015204
DTSTART:20260126T113000Z
DTEND:20260126T160000Z
TZID:UTC
LOCATION:
SUMMARY:Szabadpolc
DESCRIPTION:A régi megunt\,  esetleg több példányban meglévő könyveket cserélhet a Szabadpolcon megtalálható könyvekre. A jó állapotban lévő szépirodalmi vagy ismeretterjesztő becserélhető könyvek száma maximum 10 db.\nhttps://kulturalisszalon.hu/events/szabadpolc-50/
URL:https://kulturalisszalon.hu/events/szabadpolc-50/
END:VEVENT
END:VCALENDAR