BEGIN:VCALENDAR
VERSION:2.0
PRODID:-//eventon.com NONSGML v1.0//EN
CALSCALE:GREGORIAN
METHOD:PUBLISH
BEGIN:VEVENT
UID:69ed53dd291ae
DTSTAMP:20260426T015301
DTSTART:20260120T180000Z
DTEND:20260120T193000Z
TZID:UTC
LOCATION:
SUMMARY:A két kamaszfiammal keresztül bringáztuk Törökországot
DESCRIPTION:Egy apa\,  két fiú\,  három ország és közel háromezer kilométer két keréken. Törökország perzselő útjaitól a Kaukázus jégmezőiig – egy nyár\,  tele kalanddal és kihívással. Van\,  amikor egy utazás nem kilométerekről\,  hanem generációkról szól. 2025 nyarán ismét útra keltem – ezúttal két fiammal\,  Petivel és Csabival –\,  hogy együtt fedezzük[..]\nhttps://kulturalisszalon.hu/events/a-ket-kamaszfiammal-keresztul-bringaztuk-torokorszagot/
URL:https://kulturalisszalon.hu/events/a-ket-kamaszfiammal-keresztul-bringaztuk-torokorszagot/
END:VEVENT
END:VCALENDAR