BEGIN:VCALENDAR
VERSION:2.0
PRODID:-//eventon.com NONSGML v1.0//EN
CALSCALE:GREGORIAN
METHOD:PUBLISH
BEGIN:VEVENT
UID:69ecdc2c397ae
DTSTAMP:20260425T172220
DTSTART:20260320T180000Z
DTEND:20260320T193000Z
TZID:UTC
LOCATION:
SUMMARY:Fókuszban a fiatalok /| A Talentum Hungaricum Program ösztöndíjasai
DESCRIPTION:Vajon milyen az\,  amikor a szakmai precizitás találkozik a fiatalság féktelen szabadságával? A Cziffra Fesztivál és a Talentum Hungaricum program közös estjén a magyar jazz-utánpótlás legjava ad randevút a közönségnek. Ez az alkalom nem a távoli jövőről szól\,  hanem arról a generációról\,  amelyik éppen most teszi le a névjegyét a[..]\nhttps://kulturalisszalon.hu/events/fokuszban-a-fiatalok-a-talentum-hungaricum-program-osztondijasai-2/
URL:https://kulturalisszalon.hu/events/fokuszban-a-fiatalok-a-talentum-hungaricum-program-osztondijasai-2/
END:VEVENT
END:VCALENDAR