BEGIN:VCALENDAR
VERSION:2.0
PRODID:-//eventon.com NONSGML v1.0//EN
CALSCALE:GREGORIAN
METHOD:PUBLISH
BEGIN:VEVENT
UID:69ed5385f119b
DTSTAMP:20260426T015133
DTSTART:20260123T180000Z
DTEND:20260123T193000Z
TZID:UTC
LOCATION:
SUMMARY:Fókuszban a fiatalok /| A Talentum Hungaricum Program ösztöndíjasai
DESCRIPTION:A Cziffra Fesztivál feltörekvő ifjú művészeket bemutató sorozatának aktuális estjén a Talentum Hungaricum művészeti inkubációs program legígéretesebb résztvevői lépnek színpadra. A Talentum Hungaricum célja\,  hogy a 16–26 év közötti magyar zenészeket\,  valamint a 10–20 év közötti táncművészeket támogassa szakmai fejlődésükben és kibontakozásukban. A klasszikus\,  jazz\,  népi és könnyűzenei műfajban kiemelkedő[..]\nhttps://kulturalisszalon.hu/events/fokuszban-a-fiatalok-a-talentum-hungaricum-program-osztondijasai/
URL:https://kulturalisszalon.hu/events/fokuszban-a-fiatalok-a-talentum-hungaricum-program-osztondijasai/
END:VEVENT
END:VCALENDAR