BEGIN:VCALENDAR
VERSION:2.0
PRODID:-//eventon.com NONSGML v1.0//EN
CALSCALE:GREGORIAN
METHOD:PUBLISH
BEGIN:VEVENT
UID:69ed53857bee8
DTSTAMP:20260426T015133
DTSTART:20260128T143000Z
DTEND:20260128T160000Z
TZID:Africa/Abidjan
LOCATION:
SUMMARY:Szalonegyetem
DESCRIPTION:Az előadás az egyetemes festészet rendkívüli géniuszainak munkásságán keresztül vizsgálja a művészet helyét\,  szerepét a társadalomban. Piero della Francesca esetében a reneszánsz matematika és a perspektíva tudományos alkalmazását fedezzük fel a harmonikus kompozíciókban. Georges Seurat a pointillizmus tudományos módszerével forradalmasította a 19. századi látásmódot\,  a színek optikai keverését állítva a[..]\nhttps://kulturalisszalon.hu/events/szalonegyetem-89/
URL:https://kulturalisszalon.hu/events/szalonegyetem-89/
END:VEVENT
END:VCALENDAR