BEGIN:VCALENDAR
VERSION:2.0
PRODID:-//eventon.com NONSGML v1.0//EN
CALSCALE:GREGORIAN
METHOD:PUBLISH
BEGIN:VEVENT
UID:69ed26a71eb1e
DTSTAMP:20260425T224007
DTSTART:20260223T180000Z
DTEND:20260223T193000Z
TZID:UTC
LOCATION:
SUMMARY:Túrák Almati körül - Kazahsztán
DESCRIPTION:Kazahsztán földünk egyik legnagyobb területű országa\,  a végeláthatatlan sztyeppék birodalma\,  ahol a nomád kultúra még ma is létezik. Népessége alig több húszmillió főnél\,  mégis a közép-ázsiai térség gazdaságilag legmeghatározóbb szereplője\,  hatalmas szénhidrogén és ásványkincs készlete következtében. Nagymértékű szovjet örökséggel rendelkezik\,  innen indult hódító útjára a szovjet űrprogram\,  de a titkos[..]\nhttps://kulturalisszalon.hu/events/turak-almati-korul-kazahsztan/
URL:https://kulturalisszalon.hu/events/turak-almati-korul-kazahsztan/
END:VEVENT
END:VCALENDAR