BEGIN:VCALENDAR
VERSION:2.0
PRODID:-//eventon.com NONSGML v1.0//EN
CALSCALE:GREGORIAN
METHOD:PUBLISH
BEGIN:VEVENT
UID:69ed8172cfca5
DTSTAMP:20260426T050730
DTSTART:20251203T163000Z
DTEND:20251203T170000Z
TZID:UTC
LOCATION:
SUMMARY:Szupernagyi népdalkör
DESCRIPTION:Budapest XII. kerületében jókedvűen zengő nagymamák csoportja\,  ahol a lelkesen dalolókórustagok átlagéletkora 75 és 90 között van.A népdalkör alapítója: Karcagi ÉvaÉnektanár: Bucsai Anikó„Szeretetközösségünk tagjai családcentrikusak és hagyománytisztelők\,  jólelkű\,  szeretetteljesemberek\,  akik szeretik a dalolást. Sikerült a közös célokat kialakítani\,  baráti légkörtteremteni\,  és a rendelkezésre álló próbaidőt vidámságban eltölteni. Többségünk hiszi ésvallja\, [..]\nhttps://kulturalisszalon.hu/events/szupernagyi-nepdalkor/
URL:https://kulturalisszalon.hu/events/szupernagyi-nepdalkor/
END:VEVENT
END:VCALENDAR