BEGIN:VCALENDAR
VERSION:2.0
PRODID:-//eventon.com NONSGML v1.0//EN
CALSCALE:GREGORIAN
METHOD:PUBLISH
BEGIN:VEVENT
UID:69ed538509530
DTSTAMP:20260426T015133
DTSTART:20251221T180000Z
DTEND:20251221T190000Z
TZID:UTC
LOCATION:
SUMMARY:Lee Olivér
DESCRIPTION:Lee Olivér Artisjus-díjas gitáros\,  dalszerző. Gitárosként rengeteg világhírű és országosan ismert produkcióban megfordult már: turnézott Jon Lord-dal (Deep Purple)\,  2022-ben zenélt Stewart Copeland-del (Police) és a Győri Filharmonikus Zenekarral\,  az utóbbi években főként az ék\,  a Trillion\,  valamint a Tóth János Rudolffal közösen jegyzett\,  Ütött-Kopott Angyal koncertjein találkozhat vele a[..]\nhttps://kulturalisszalon.hu/events/lee-oliver/
URL:https://kulturalisszalon.hu/events/lee-oliver/
END:VEVENT
END:VCALENDAR