BEGIN:VCALENDAR
VERSION:2.0
PRODID:-//eventon.com NONSGML v1.0//EN
CALSCALE:GREGORIAN
METHOD:PUBLISH
BEGIN:VEVENT
UID:69ed854664394
DTSTAMP:20260426T052350
DTSTART:20251214T180000Z
DTEND:20251214T190000Z
TZID:UTC
LOCATION:
SUMMARY:Körmendy Mátyás Quartett
DESCRIPTION:A quartett tagjai a klasszikus jazz iránti elkötelezettség miatt találtak egymásra\,  amit próbálnak a legautentikusabban előadni. Az este folyamán a legismertebb karácsonyi dallamokat keverik a jazz táncos lüktetésével\,  hogy együtt hangolódjunk az ünnepekre. &nbsp; Advent a HegyvidékenTagok: Földi Natália &#8211; Ének Zalavári Álmos- Zongora Komonczy Wilms Benedek &#8211; Dob Körmendy[..]\nhttps://kulturalisszalon.hu/events/kormendy-matyas-quartett/
URL:https://kulturalisszalon.hu/events/kormendy-matyas-quartett/
END:VEVENT
END:VCALENDAR