BEGIN:VCALENDAR
VERSION:2.0
PRODID:-//eventon.com NONSGML v1.0//EN
CALSCALE:GREGORIAN
METHOD:PUBLISH
BEGIN:VEVENT
UID:69ed6dbf3bb63
DTSTAMP:20260426T034327
DTSTART:20251213T180000Z
DTEND:20251213T190000Z
TZID:UTC
LOCATION:
SUMMARY:Redbreast Wilson & The Mad Dog Margaritas
DESCRIPTION:Redbreast Wilson izgalmas figurája volt a hazai blueséletnek\,  aki 2019-ben két blueslemez után váltott countryra: ebben a stílusban 2022-ben jelentette meg első lemezét\,  Tradin’ Your Love címmel\,  legutóbbi single-je a Movin&#8217; On 2025 februárjában jelent meg. &#8222;Az örökérvényű emberi tapasztalatok\,  az akusztikus hangzás és persze az emblematikus amerikai vidékek romantikája[..]\nhttps://kulturalisszalon.hu/events/redbreast-wilson-the-mad-dog-margaritas-2/
URL:https://kulturalisszalon.hu/events/redbreast-wilson-the-mad-dog-margaritas-2/
END:VEVENT
END:VCALENDAR