BEGIN:VCALENDAR
VERSION:2.0
PRODID:-//eventon.com NONSGML v1.0//EN
CALSCALE:GREGORIAN
METHOD:PUBLISH
BEGIN:VEVENT
UID:69ed6b2348391
DTSTAMP:20260426T033219
DTSTART:20251212T180000Z
DTEND:20251212T190000Z
TZID:UTC
LOCATION:
SUMMARY:JaMese: Zenés Adventi Kalendárium
DESCRIPTION:A JaMese zenekar 2019-ben jelentette meg különleges\,  Szabó T. Anna verseire írt\,  24 dalból álló karácsonyi albumát. A zenekar adventi koncertanyaga egyszerre szórakoztató és lélekemelő. Szabó T. Anna versei végigvezetnek az adventi ünnepkörön és felkészítik a gyerekeket és a felnőtteket az ünnep apró csodáinak felfedezésére\,  megélésére. Advent a HegyvidékenA JaMese[..]\nhttps://kulturalisszalon.hu/events/jamese-zenes-adventi-kalendarium/
URL:https://kulturalisszalon.hu/events/jamese-zenes-adventi-kalendarium/
END:VEVENT
END:VCALENDAR