BEGIN:VCALENDAR
VERSION:2.0
PRODID:-//eventon.com NONSGML v1.0//EN
CALSCALE:GREGORIAN
METHOD:PUBLISH
BEGIN:VEVENT
UID:69ed81c3c8e51
DTSTAMP:20260426T050851
DTSTART:20251207T180000Z
DTEND:20251207T190000Z
TZID:UTC
LOCATION:
SUMMARY:Magyar Nemzeti Rézfúvós Kvintett
DESCRIPTION:A kamaraegyüttes a Liszt Ferenc Zeneművészeti Egyetem művésztanár hallgatóiból alakult Budapesten. Az együttes repertoárjában a reneszánsztól egészen a mai kor muzsikájáig minden stílus megtalálható. A reformkori Magyarország muzsikáját\,  a szabadságharc híres dallamait\,  az Osztrák-Magyar Monarchia fúvós zenei kultúráját\,  valamint a XX. század jelentős magyar és külföldi szerzőinek eredetileg rézfúvós hangszerekre[..]\nhttps://kulturalisszalon.hu/events/magyar-nemzeti-rezfuvos-kvintett-2/
URL:https://kulturalisszalon.hu/events/magyar-nemzeti-rezfuvos-kvintett-2/
END:VEVENT
END:VCALENDAR