BEGIN:VCALENDAR
VERSION:2.0
PRODID:-//eventon.com NONSGML v1.0//EN
CALSCALE:GREGORIAN
METHOD:PUBLISH
BEGIN:VEVENT
UID:69ed8172cd1d0
DTSTAMP:20260426T050730
DTSTART:20251207T160000Z
DTEND:20251207T163000Z
TZID:UTC
LOCATION:
SUMMARY:A Bartók Konzervatórium Vegyeskara
DESCRIPTION:A budapesti Bartók Béla Zeneművészeti Szakgimnázium Vegyeskara középiskolai fiatalokból álló\,  dinamikus együttes\,  amely a klasszikus kórusirodalom mellett kortárs szerzők műveit is műsorán tartja. A kórus célja\,  hogy a diákokat a közös muzsikálás örömére és magas szintű művészi munkára nevelje. Karnagya Magay Judit\,  akinek elhivatott szakmai irányítása alatt a kórus rendszeresen[..]\nhttps://kulturalisszalon.hu/events/a-bartok-konzervatorium-vegyeskara/
URL:https://kulturalisszalon.hu/events/a-bartok-konzervatorium-vegyeskara/
END:VEVENT
END:VCALENDAR