BEGIN:VCALENDAR
VERSION:2.0
PRODID:-//eventon.com NONSGML v1.0//EN
CALSCALE:GREGORIAN
METHOD:PUBLISH
BEGIN:VEVENT
UID:69ed81b99ea56
DTSTAMP:20260426T050841
DTSTART:20251205T180000Z
DTEND:20251205T190000Z
TZID:UTC
LOCATION:
SUMMARY:Negro Oro Balkan Bagage
DESCRIPTION:A közönség először ül\,  áll\,  végül táncol. A lüktető ritmusok\,  keserédes dallamok\,  magával ragadják a hallgatóságot. A Negro Oro zenéjének alapját népszerű kelet- és dél-európai dallamok adják. Koncertjükön balkáni (szerb\,  makedón\,  albán\,  bolgár\,  román) dalok találkoznak magyar\,  cigány\,  klezmer\,  valamint spanyol\,  olasz zenei kultúrákkal. 2022-ben alakult a zenekar tagjai különböző[..]\nhttps://kulturalisszalon.hu/events/negro-oro-balkan-bagage/
URL:https://kulturalisszalon.hu/events/negro-oro-balkan-bagage/
END:VEVENT
END:VCALENDAR