BEGIN:VCALENDAR
VERSION:2.0
PRODID:-//eventon.com NONSGML v1.0//EN
CALSCALE:GREGORIAN
METHOD:PUBLISH
BEGIN:VEVENT
UID:69ed81440e153
DTSTAMP:20260426T050644
DTSTART:20251129T180000Z
DTEND:20251129T190000Z
TZID:UTC
LOCATION:
SUMMARY:Romano Drom
DESCRIPTION:Tavaly ünnepelte fennállásának 25. évét a Romano Drom\,  amely a magyarországi kortárs cigány kultúra egyik legismertebb képviselője. 1999-es alapítása óta a zenekar bejárta a világot. Kairótól New Yorkig\,  Dél-Koreától Londonig\,  Pekingtől Oszlóig. Turnéztak a Közel-Keleten\,  Távol-Keleten\,  a tengerentúlon\,  és Európa csaknem minden országában volt már fellépésük. Egyedi zenei világuk zajos sikert[..]\nhttps://kulturalisszalon.hu/events/romano-drom/
URL:https://kulturalisszalon.hu/events/romano-drom/
END:VEVENT
END:VCALENDAR