BEGIN:VCALENDAR
VERSION:2.0
PRODID:-//eventon.com NONSGML v1.0//EN
CALSCALE:GREGORIAN
METHOD:PUBLISH
BEGIN:VEVENT
UID:69ed81b9a1663
DTSTAMP:20260426T050841
DTSTART:20251128T170000Z
DTEND:20251128T180000Z
TZID:UTC
LOCATION:
SUMMARY:Bergengóc Zenegóc együttes: „Zenebona Vásár Bergengóciában” című zenés interaktív gyerekműsor
DESCRIPTION:A zene szárnyán elrepülhetnek Bergengóciába\,  egy meseországnak tűnő\,  de megvalósítható világba\,  ahol természetes a környezet és egymás szeretete\,  a természet és az állatok védelme\,  a kreativitás\,  a hagyományok ápolása. Erről szólnak az akusztikus hangszerekkel eljátszott dalok\,  amiket népies játékok\,  kiszámolók\,  bábozások és a gyerekek szereplései tesznek még színesebbé. A gyerekeknek[..]\nhttps://kulturalisszalon.hu/events/bergengoc-zenegoc-egyuttes-zenebona-vasar-bergengociaban-cimu-zenes-interaktiv-gyerekmusor/
URL:https://kulturalisszalon.hu/events/bergengoc-zenegoc-egyuttes-zenebona-vasar-bergengociaban-cimu-zenes-interaktiv-gyerekmusor/
END:VEVENT
END:VCALENDAR