BEGIN:VCALENDAR
VERSION:2.0
PRODID:-//eventon.com NONSGML v1.0//EN
CALSCALE:GREGORIAN
METHOD:PUBLISH
BEGIN:VEVENT
UID:69ed6acf0ddfb
DTSTAMP:20260426T033055
DTSTART:20251214T100000Z
DTEND:20251214T140000Z
TZID:UTC
LOCATION:
SUMMARY:Ökokarácsony
DESCRIPTION:Kézműves ökokarácsonyra\,  szeretetteljes együttlétre hívjuk a gyerekeket\,  szülőket\,  nagyszülőket\,  akik örömmel készítenének együtt egyedi ajándékokat szeretteiknek természetes és újrahasznosított anyagokból\,  hagyományos technikákkal (pl. gyertyaöntés\,  körmöcskézés …). Csak egy kis dobozra lesz szükség\,  amiben az elkészített kincsek hazavihetik. A rendezvény ingyenes! Az előzetes regisztrációval érkezők előnyt élveznek a beléptetésnél. Regisztrálni lehet[..]\nhttps://kulturalisszalon.hu/events/okokaracsony/
URL:https://kulturalisszalon.hu/events/okokaracsony/
END:VEVENT
END:VCALENDAR