BEGIN:VCALENDAR
VERSION:2.0
PRODID:-//eventon.com NONSGML v1.0//EN
CALSCALE:GREGORIAN
METHOD:PUBLISH
BEGIN:VEVENT
UID:69ed86e14d3e9
DTSTAMP:20260426T053041
DTSTART:20251213T100000Z
DTEND:20251213T140000Z
TZID:UTC
LOCATION:
SUMMARY:Magyar Környezeti Nevelési Egyesület Játszóháza
DESCRIPTION:A Magyar Környezeti Nevelési Egyesület már negyedszer nyitja itt meg délelőtti játszóházát. Témánk a természet\,  aminek apró csodáira külön-külön oda sem figyelünk\,  csak azt vesszük észre\,  amikor összeáll az egész a nagyszerű\,  egészséges erdővé\,  a virágos rétté\,  az üde patakká. A játékok változatosak lesznek\,  nemcsak gyerekeknek\,  hanem felnőtteknek is szólnak.[..]\nhttps://kulturalisszalon.hu/events/jatszohaz/
URL:https://kulturalisszalon.hu/events/jatszohaz/
END:VEVENT
END:VCALENDAR