BEGIN:VCALENDAR
VERSION:2.0
PRODID:-//eventon.com NONSGML v1.0//EN
CALSCALE:GREGORIAN
METHOD:PUBLISH
BEGIN:VEVENT
UID:69ed6b0e922fe
DTSTAMP:20260426T033158
DTSTART:20251210T163000Z
DTEND:20251210T180000Z
TZID:UTC
LOCATION:
SUMMARY:Jókai növény és kertbarát klub
DESCRIPTION:A kör vezetője: Ónodi Szabó Sándor nyugdíjas kertész oktató. Ingyenes\nhttps://kulturalisszalon.hu/events/jokai-noveny-es-kertbarat-klub-18/
URL:https://kulturalisszalon.hu/events/jokai-noveny-es-kertbarat-klub-18/
END:VEVENT
END:VCALENDAR