BEGIN:VCALENDAR
VERSION:2.0
PRODID:-//eventon.com NONSGML v1.0//EN
CALSCALE:GREGORIAN
METHOD:PUBLISH
BEGIN:VEVENT
UID:69ed54103159d
DTSTAMP:20260426T015352
DTSTART:20260114T143000Z
DTEND:20260114T160000Z
TZID:Africa/Abidjan
LOCATION:
SUMMARY:Szalonegyetem
DESCRIPTION:A Duna nemzetközi vizsgálatának felvetésére a kilencvenes évek közepén\,  az 1991-92-ben lezajlott Cousteau-féle vizsgálati program után került sor. 1999 júniusában a Nemzetközi Duna-védelmi Bizottság (International Commission for the Protection of the Danube River &#8211; ICPDR) és az ENSZ (UN Balkan Task Force) a NATO bombázások befejeztével egy jugoszláviai Duna-felmérést szervezett.[..]\nhttps://kulturalisszalon.hu/events/szalonegyetem-88/
URL:https://kulturalisszalon.hu/events/szalonegyetem-88/
END:VEVENT
END:VCALENDAR