BEGIN:VCALENDAR
VERSION:2.0
PRODID:-//eventon.com NONSGML v1.0//EN
CALSCALE:GREGORIAN
METHOD:PUBLISH
BEGIN:VEVENT
UID:69ed6cbfc4ac8
DTSTAMP:20260426T033911
DTSTART:20251209T160000Z
DTEND:20251209T170000Z
TZID:UTC
LOCATION:
SUMMARY:A szellemi frissesség titkai\,  új ismeretek a  gondolkodás karbantartására
DESCRIPTION:A demencia a gondolkodás\,  az érzelmek és a társas képességek hanyatlása\,  ami korlátozza a társas életet és a teljesítőképességet. Többnyire az agy igazolható betegségével jár együtt. Mindenekelőtt a rövid távú emlékezet\,  távolabbról azonban a hosszú távú memória\,  a nyelv és a mozgás is érintett\,  amely azonban csak a betegség előrehaladásával[..]\nhttps://kulturalisszalon.hu/events/a-szellemi-frissesseg-titkai-uj-ismeretek-a-gondolkodas-karbantartasara/
URL:https://kulturalisszalon.hu/events/a-szellemi-frissesseg-titkai-uj-ismeretek-a-gondolkodas-karbantartasara/
END:VEVENT
END:VCALENDAR