BEGIN:VCALENDAR
VERSION:2.0
PRODID:-//eventon.com NONSGML v1.0//EN
CALSCALE:GREGORIAN
METHOD:PUBLISH
BEGIN:VEVENT
UID:69ed685e404c8
DTSTAMP:20260426T032030
DTSTART:20251209T170000Z
DTEND:20251209T180000Z
TZID:UTC
LOCATION:
SUMMARY:Vers\,  ami körülvesz
DESCRIPTION:Az adventi készülődés és a karácsony időszaka egy különleges\,  meghitt\,  várakozással teli időszak minden évben. Kisgyerekként a “Jézuska” vagy “Télapó” által hozott ajándékokra vágyakozunk\,  felnőtt fejjel a karácsonyi időszak nyugalma és a szeretteink társaságban eltöltött értékes idő az\,  aminek különlegessége áthatja a Karácsony ünnep időszakát. Csodás érzés átélni\,  hogy ilyenkor[..]\nhttps://kulturalisszalon.hu/events/vers-ami-korulvesz/
URL:https://kulturalisszalon.hu/events/vers-ami-korulvesz/
END:VEVENT
END:VCALENDAR