BEGIN:VCALENDAR
VERSION:2.0
PRODID:-//eventon.com NONSGML v1.0//EN
CALSCALE:GREGORIAN
METHOD:PUBLISH
BEGIN:VEVENT
UID:69ed6e0d3527d
DTSTAMP:20260426T034445
DTSTART:20251210T143000Z
DTEND:20251210T150000Z
TZID:Africa/Abidjan
LOCATION:
SUMMARY:Szalonegyetem
DESCRIPTION:Mi kedves a szívünknek?  Árnyék és fény az év végén Advent régen és ma: mire elég a bankkártya? Mire hív az adventi koszorú? Népszokások hagyatéka: csináld\,  tanítsd! Az advent titkai – ünnepvárás régen és maElőadó: Sánta Ibolya lelkész\nhttps://kulturalisszalon.hu/events/szalonegyetem-87/
URL:https://kulturalisszalon.hu/events/szalonegyetem-87/
END:VEVENT
END:VCALENDAR