BEGIN:VCALENDAR
VERSION:2.0
PRODID:-//eventon.com NONSGML v1.0//EN
CALSCALE:GREGORIAN
METHOD:PUBLISH
BEGIN:VEVENT
UID:69ecd7140d022
DTSTAMP:20260425T170036
DTSTART:20251018T103000Z
DTEND:20251018T113000Z
TZID:UTC
LOCATION:
SUMMARY:Családi délelőtt: Ezer álom hív - Zenés Disney Kvíz
DESCRIPTION:Zenés utazás a mesék birodalmába Zámbó Brigitta és Szaszák Zsolt a Madách Színház két művésze által. Ismert Disney mesék hőseit\,  szereplőit elevenítik meg dalok formájában\,  de a játék sem marad el hiszen izgalmas quizjáték várja az érdeklődőket. A kvízjátékok legyen szó baráti vagy családi összejövetelekről\,  céges csapatépítőről\,  születésnapi buliról- mindig[..]\nhttps://kulturalisszalon.hu/events/csaladi-delelott-ezer-alom-hiv-zenes-disney-kviz/
URL:https://kulturalisszalon.hu/events/csaladi-delelott-ezer-alom-hiv-zenes-disney-kviz/
END:VEVENT
END:VCALENDAR