BEGIN:VCALENDAR
VERSION:2.0
PRODID:-//eventon.com NONSGML v1.0//EN
CALSCALE:GREGORIAN
METHOD:PUBLISH
BEGIN:VEVENT
UID:69ed80edf3ed8
DTSTAMP:20260426T050517
DTSTART:20251125T180000Z
DTEND:20251125T200000Z
TZID:Europe/Budapest
LOCATION:
SUMMARY:Serengeti\,  Kilimandzsáró\,  Zanzibár
DESCRIPTION:Ha Tanzánia\,  akkor szafari\,  gondolják a legtöbben. Részben igazuk is van &#8211; Afrika vadállatai számtalan nemzeti parkban várnak ránk\,  ezek élén a Serengetivel\,  amely minden évben a természet egyik csodájának\,  kétmillió gnú\,  zebra és gazella nagy vándorlásának a helyszíne. De Tanzániában található jó néhány a Nagy Hasadékvölgyben keletkezett vulkánok\,  édes[..]\nhttps://kulturalisszalon.hu/events/serengeti-kilimandzsaro-zanzibar/
URL:https://kulturalisszalon.hu/events/serengeti-kilimandzsaro-zanzibar/
END:VEVENT
END:VCALENDAR