BEGIN:VCALENDAR
VERSION:2.0
PRODID:-//eventon.com NONSGML v1.0//EN
CALSCALE:GREGORIAN
METHOD:PUBLISH
BEGIN:VEVENT
UID:69ed3bd7a7b96
DTSTAMP:20260426T001031
DTSTART:20260202T180000Z
DTEND:20260202T200000Z
TZID:Europe/Budapest
LOCATION:
SUMMARY:Kvízest
DESCRIPTION:Nagy buli várható február 2-án a Hegyvidéki Kulturális Szalonban\,  ugyanis egy szuper Zenekvízzel várunk mindenkit! Felcsendülnek a legismertebb magyar slágerek az 1960-as évektől kezdve\,  de a dalfelismerés mellett más izgalmas feladatok is várnak a csapatokra együttesekről\,  előadókról\,  plusz egy meglepetésfeladat is lesz a végén. Magyar zenészekKvízmester: Jávor Gellért\nhttps://kulturalisszalon.hu/events/kvizest-2/
URL:https://kulturalisszalon.hu/events/kvizest-2/
END:VEVENT
END:VCALENDAR