BEGIN:VCALENDAR
VERSION:2.0
PRODID:-//eventon.com NONSGML v1.0//EN
CALSCALE:GREGORIAN
METHOD:PUBLISH
BEGIN:VEVENT
UID:69ed6899c262e
DTSTAMP:20260426T032129
DTSTART:20251210T183000Z
DTEND:20251210T210000Z
TZID:UTC
LOCATION:
SUMMARY:Életem közepe
DESCRIPTION:Élete közepén szinte mindenki mentális és fizikai jelzést kap az idő múlásáról\,  a test öregedéséről. Ez az életszakasz nem könnyű\,  se nőnek\,  se férfinak. Az életünk több területén kerülhetünk válaszút elé\,  aminek vannak orvosi\,  életmódbeli\,  pszichés\,  de a családot vagy a szociális kapcsolatainkat is érintő aspektusai. Szeretnénk megmutatni\,  hogy ez[..]\nhttps://kulturalisszalon.hu/events/eletem-kozepe-3/
URL:https://kulturalisszalon.hu/events/eletem-kozepe-3/
END:VEVENT
END:VCALENDAR