BEGIN:VCALENDAR
VERSION:2.0
PRODID:-//eventon.com NONSGML v1.0//EN
CALSCALE:GREGORIAN
METHOD:PUBLISH
BEGIN:VEVENT
UID:69ed816248a37
DTSTAMP:20260426T050714
DTSTART:20251202T160000Z
DTEND:20251202T173000Z
TZID:UTC
LOCATION:
SUMMARY:Kulisszák mögött
DESCRIPTION:Tiszta szívű\,  a művészetért\,  hivatásáért rajongó ember volt. A közönség imádta\,  a szakma elismerte\,  a kritikusok kedvence volt\,  pályatársai szerették. Ő mégis magányos maradt. Titokzatos egyéniségét\,  tragikus hirtelenséggel bekövetkezett halálát mítosz övezi. A vetítéses előadás fotókból\,  a pályatársak emlékeiből\,  néhány ritkán látott filmből válogatva adózik e kivételes tehetségű\,  különös érzékenységű[..]\nhttps://kulturalisszalon.hu/events/kulisszak-mogott-28/
URL:https://kulturalisszalon.hu/events/kulisszak-mogott-28/
END:VEVENT
END:VCALENDAR