BEGIN:VCALENDAR
VERSION:2.0
PRODID:-//eventon.com NONSGML v1.0//EN
CALSCALE:GREGORIAN
METHOD:PUBLISH
BEGIN:VEVENT
UID:69ed81c3c98c4
DTSTAMP:20260426T050851
DTSTART:20251205T190000Z
DTEND:20251205T200000Z
TZID:Africa/Abidjan
LOCATION:
SUMMARY:Párizs /// Tangó
DESCRIPTION:A Melodika Project (Antal Gábor-zongora\,  Csernus Katalin-gitár\,  Pödör Bálint-ütőhangszerek) saját feldolgozásaiból összeállított programja az 1930- as\,  1940-es évek két legnépszerűbb könnyűzenei műfaját\,  a tangót és a sanzont járja körül és újítja fel. A koncerten ismert külföldi és magyar szerzők művei szólalnak meg a trió egyedi feldolgozásában és hangszerelésében. A trió[..]\nhttps://kulturalisszalon.hu/events/parizs-tango/
URL:https://kulturalisszalon.hu/events/parizs-tango/
END:VEVENT
END:VCALENDAR