BEGIN:VCALENDAR
VERSION:2.0
PRODID:-//eventon.com NONSGML v1.0//EN
CALSCALE:GREGORIAN
METHOD:PUBLISH
BEGIN:VEVENT
UID:69ecd752e5920
DTSTAMP:20260425T170138
DTSTART:20250612T190000Z
DTEND:20250612T203000Z
TZID:UTC
LOCATION:
SUMMARY:Juhász Anna Irodalmi Szalon #169.
DESCRIPTION:Vendégek: Szlavicsek Judit Zavaros Eszter Hevér Gábor Június 12-én\,  egy nyári szünet előtti szezonzáró rendezvényen a Balaton mellé utazunk vendégeinkkel\,  a magyar tengert idézi meg az Irodalmi Szalon #169. estje. A Balaton mindannyiunk közös története\,  ami Gárdonyi versében\,  Egry József képein\,  Vajda János\,  Berzsenyi Dániel\,  Bereményi Géza vagy épp Konrád[..]\nhttps://kulturalisszalon.hu/events/juhasz-anna-irodalmi-szalon-169-2/
URL:https://kulturalisszalon.hu/events/juhasz-anna-irodalmi-szalon-169-2/
END:VEVENT
END:VCALENDAR