BEGIN:VCALENDAR
VERSION:2.0
PRODID:-//eventon.com NONSGML v1.0//EN
CALSCALE:GREGORIAN
METHOD:PUBLISH
BEGIN:VEVENT
UID:69ecd72e4ed0a
DTSTAMP:20260425T170102
DTSTART:20250613T180000Z
DTEND:20250613T190000Z
TZID:Africa/Abidjan
LOCATION:
SUMMARY:Szalon Spirit Jazz és Világzenei estek
DESCRIPTION:AlmAcoustic Duo koncert &#8211; alakítsd Te a műsort: Több mint 200 pop-jazz-latin sláger – és a lejátszási lista a Te kezedben van! A magas színvonalú zenei élményt az AlmAcoustic Duo elismert\,  diplomás jazz előadóművészei\,  Bencze Alma (ének) és Bögöthy Ádám (gitár) garantálják. Ezen az estén rajtad múlik\,  mit hallunk! Gyere[..]\nhttps://kulturalisszalon.hu/events/szalon-spirit-jazz-es-vilagzenei-estek-2/
URL:https://kulturalisszalon.hu/events/szalon-spirit-jazz-es-vilagzenei-estek-2/
END:VEVENT
END:VCALENDAR