BEGIN:VCALENDAR
VERSION:2.0
PRODID:-//eventon.com NONSGML v1.0//EN
CALSCALE:GREGORIAN
METHOD:PUBLISH
BEGIN:VEVENT
UID:69ecd6fed2a9c
DTSTAMP:20260425T170014
DTSTART:20250603T180000Z
DTEND:20250603T193000Z
TZID:Africa/Abidjan
LOCATION:
SUMMARY:Afrika ismeretlen világöröksége: a Hold-hegység (Rwenzori - 5109 m)
DESCRIPTION:A reflektorfényben úszó Kilimandzsáró és Mount Kenya mellett kevés figyelem irányul Uganda legendás magashegységére a Rwenzorira. Az egyenlítőtől 70 km-re található 5100 m-es magasságot elérő hegység pedig az UNESCO világörökséghez tartozik\,  amelyre nem csak a természetföldrajzi\,  biológiai és geológiai jellegzetességei miatt szolgált rá\,  hanem az a földrajzi felfedezések történetében betöltött[..]\nhttps://kulturalisszalon.hu/events/afrika-ismeretlen-vilagoroksege-a-hold-hegyseg-rwenzori-5109-m/
URL:https://kulturalisszalon.hu/events/afrika-ismeretlen-vilagoroksege-a-hold-hegyseg-rwenzori-5109-m/
END:VEVENT
END:VCALENDAR